BEGIN:VCALENDAR
VERSION:2.0
PRODID:GIGPRESS 2.0 WORDPRESS PLUGIN
CALSCALE:GREGORIAN
X-WR-TIMEZONE:Etc/GMT
METHOD:PUBLISH
BEGIN:VTIMEZONE
TZID:GMT
BEGIN:STANDARD
DTSTART:20071028T010000
TZOFFSETTO:+0000
TZOFFSETFROM:+0000
END:STANDARD
END:VTIMEZONE
BEGIN:VEVENT
SUMMARY:Gordon w/Paul Holdman at Brown County Playhouse
DESCRIPTION:Notes: Open for John Primer All Ages
LOCATION:Brown County Playhouse\, Nashville IN\, US
UID:20260424T190000Z-2161-bernie@combsdoadly.com
URL:https://gordonbonham.com
DTSTART;VALUE=DATE-TIME;TZID=GMT:20260424T190000Z
DTEND;VALUE=DATE-TIME;TZID=GMT:20260424T190000Z
DTSTAMP:20260423T010054Z
END:VEVENT
END:VCALENDAR