BEGIN:VCALENDAR
VERSION:2.0
PRODID:GIGPRESS 2.0 WORDPRESS PLUGIN
CALSCALE:GREGORIAN
X-WR-TIMEZONE:Etc/GMT
METHOD:PUBLISH
BEGIN:VTIMEZONE
TZID:GMT
BEGIN:STANDARD
DTSTART:20071028T010000
TZOFFSETTO:+0000
TZOFFSETFROM:+0000
END:STANDARD
END:VTIMEZONE
BEGIN:VEVENT
SUMMARY:Gordon w/Paul Holdman at First United Methodist Church
DESCRIPTION:Notes: Take Note series All Ages
LOCATION:First United Methodist Church\, 5500 N. Meridian\, Indianapolis\, US
UID:20260503T160000Z-2162-bernie@combsdoadly.com
URL:https://gordonbonham.com
DTSTART;VALUE=DATE-TIME;TZID=GMT:20260503T160000Z
DTEND;VALUE=DATE-TIME;TZID=GMT:20260503T160000Z
DTSTAMP:20260423T125720Z
END:VEVENT
END:VCALENDAR